BEGIN:VCALENDAR
VERSION:2.0
PRODID:-//Ithaca Neighborhood Housing - ECPv6.15.20//NONSGML v1.0//EN
CALSCALE:GREGORIAN
METHOD:PUBLISH
X-ORIGINAL-URL:https://www.ithacanhs.org
X-WR-CALDESC:Events for Ithaca Neighborhood Housing
REFRESH-INTERVAL;VALUE=DURATION:PT1H
X-Robots-Tag:noindex
X-PUBLISHED-TTL:PT1H
BEGIN:VTIMEZONE
TZID:America/New_York
BEGIN:DAYLIGHT
TZOFFSETFROM:-0500
TZOFFSETTO:-0400
TZNAME:EDT
DTSTART:20230312T070000
END:DAYLIGHT
BEGIN:STANDARD
TZOFFSETFROM:-0400
TZOFFSETTO:-0500
TZNAME:EST
DTSTART:20231105T060000
END:STANDARD
BEGIN:DAYLIGHT
TZOFFSETFROM:-0500
TZOFFSETTO:-0400
TZNAME:EDT
DTSTART:20240310T070000
END:DAYLIGHT
BEGIN:STANDARD
TZOFFSETFROM:-0400
TZOFFSETTO:-0500
TZNAME:EST
DTSTART:20241103T060000
END:STANDARD
BEGIN:DAYLIGHT
TZOFFSETFROM:-0500
TZOFFSETTO:-0400
TZNAME:EDT
DTSTART:20250309T070000
END:DAYLIGHT
BEGIN:STANDARD
TZOFFSETFROM:-0400
TZOFFSETTO:-0500
TZNAME:EST
DTSTART:20251102T060000
END:STANDARD
BEGIN:DAYLIGHT
TZOFFSETFROM:-0500
TZOFFSETTO:-0400
TZNAME:EDT
DTSTART:20260308T070000
END:DAYLIGHT
BEGIN:STANDARD
TZOFFSETFROM:-0400
TZOFFSETTO:-0500
TZNAME:EST
DTSTART:20261101T060000
END:STANDARD
END:VTIMEZONE
BEGIN:VEVENT
DTSTART;TZID=America/New_York:20250617T130000
DTEND;TZID=America/New_York:20250617T143000
DTSTAMP:20260423T044443
CREATED:20250516T142151Z
LAST-MODIFIED:20250516T171634Z
UID:10000214-1750165200-1750170600@www.ithacanhs.org
SUMMARY:Village Grove Ribbon Cutting
DESCRIPTION:INHS is celebrating the completion of its latest development\, Village Grove Apartments\, part of the Crescent Way subdivision in the Village of Trumansburg\, and would love for the public to join in on the celebrations! \nVillage Grove is a newly constructed mixed-use\, mixed-income affordable housing development with 46 units of rental housing on a nineteen-acre parcel of land. INHS’s greenest project to-date\, it achieved Passive House Certification and is a NetZero development. \nLocated within walking distance to schools\, shopping\, and a thriving downtown community\, amenities of the community development include community lounge\, laundry facilities\, on-site management and maintenance offices\, and the new home of Trumansburg Community Nursery School. \nIn addition to INHS’s affordable rental units\, the Crescent Way subdivision will also include ten affordable for-sale homes that will be part of INHS’ Community Housing Trust\, as well as nine lots for market-rate construction that are available for purchase from Sundial Development LLC. \nJoin us for a Ribbon Cutting Ceremony to celebrate Village Grove and all those who made it possible\, including NYS Homes and Community Renewal Commissioner RuthAnne Visnauskas. \nTuesday\, June 17\n1-2:30 p.m.\nVillage Grove\n15 Crescent Way\, Trumansburg\, NY  \nRegister here!\n\nRegistration is not required but appreciated! If you have questions\, please contact Justina Fetterly at jfetterly@ithacanhs.org.
URL:https://www.ithacanhs.org/event/village-grove-ribbon-cutting/
LOCATION:Village Grove\, 15 Crescent Way\, Trumansburg\, United States
CATEGORIES:INHS General
ATTACH;FMTTYPE=image/jpeg:https://www.ithacanhs.org/wp-content/uploads/VillageGrove_TownHouseEdit_wPeople-scaled-e1747756212990.jpg
ORGANIZER;CN="INHS":MAILTO:info@ithacanhs.org
END:VEVENT
BEGIN:VEVENT
DTSTART;TZID=America/New_York:20250605T100000
DTEND;TZID=America/New_York:20250605T150000
DTSTAMP:20260423T044443
CREATED:20250515T185253Z
LAST-MODIFIED:20250516T141801Z
UID:10000213-1749117600-1749135600@www.ithacanhs.org
SUMMARY:Volunteer Clean-Up Day
DESCRIPTION:INHS invites you to join us for a Volunteer Clean-Up Day in June! Pitch in with your neighbors to beautify our community at various INHS housing developments across the City of Ithaca. \nWhen: Thursday\, June 5. Sign up for a two-hour shift from 10 am–noon or from 1–3 pm.\nWhat: Volunteer tasks include weeding\, raking\, yard and landscape cleanup\, and litter pickup.\nWhere: All volunteer tasks take place at outdoor locations within the City of Ithaca.\nHow to register: Visit our sign-up form here. Select a volunteer shift and project of your choosing! Slots are limited. \nRegister here! If you have questions\, contact Kristie Snyder at ksnyder@ithacanhs.org. \nThank you for giving your time to create safe\, comfortable\, and beautiful outdoor spaces for your neighbors and our community! \n\nCan’t volunteer but would like to support your neighbors in other ways? \n\nMake a one-time donation to support INHS’s programs like refurbishing the playground space at Cascadilla Green\, where community residents and INHS are working together to envision a vibrant new gathering space in the heart of this affordable-housing community on Ithaca’s Northside.\nJoin the Neighborhood Matters Network and become a monthly donor! Whether you pledge $5/mo\, $50/mo\, or anything in between\, you’ll help our neighbors access safe\, stable\, affordable housing\, year-round.\nShare this volunteer opportunity with your network.\nSign up for future volunteer events by emailing Kristie Snyder at ksnyder@ithacanhs.org.\nFollow us on Facebook and/or Instagram to stay connected with INHS.
URL:https://www.ithacanhs.org/event/volunteer-clean-up-day/
LOCATION:INHS\, 115 W. Clinton St.\, Ithaca\, NY\, 14850\, United States
CATEGORIES:INHS General
ATTACH;FMTTYPE=image/jpeg:https://www.ithacanhs.org/wp-content/uploads/Ann-D-Rose-S-Sheila-S-1-scaled-e1747335150685.jpg
ORGANIZER;CN="INHS":MAILTO:info@ithacanhs.org
GEO:42.4360671;-76.4997282
X-APPLE-STRUCTURED-LOCATION;VALUE=URI;X-ADDRESS=INHS 115 W. Clinton St. Ithaca NY 14850 United States;X-APPLE-RADIUS=500;X-TITLE=115 W. Clinton St.:geo:-76.4997282,42.4360671
END:VEVENT
BEGIN:VEVENT
DTSTART;TZID=America/New_York:20241203T090000
DTEND;TZID=America/New_York:20241203T110000
DTSTAMP:20260423T044443
CREATED:20241119T141508Z
LAST-MODIFIED:20241119T141508Z
UID:10000208-1733216400-1733223600@www.ithacanhs.org
SUMMARY:Sears St. Crane Installation Kick-Off Party
DESCRIPTION:Come celebrate with INHS and share a unique opportunity to witness a modular home installation first-hand! \nINHS is adding four for-sale homes to its Community Housing Trust on Sears Street with Simplex Homes\, a modern\, technically advanced\, and nationally recognized leader in modular construction. \nWHAT TO EXPECT\nWe invite you to join us to watch the exciting process of the first modular home being crane set in place on its foundation!  \nTuesday\, December 3\n9 a.m. | Sears St.\, Ithaca \nINHS will be offering hot drinks and sweet treats. Kick-off begins at 9 a.m. and we will be on-site until 11 a.m. As you can imagine\, timing of the crane drop is difficult\, but we’re confident the experience will be exciting! \nThis will be an outside experience\, so come prepared for weather conditions. Parking on Sears Street will not be available\, but there is plenty of walkable off-street parking on Tioga and Cayuga Streets. \nRSVP isn’t required but appreciated. Contact jfetterly@ithacanhs.org to RSVP. \nLearn more about the Community Housing Trust: ithacanhs.org/communityhousingtrust \nLearn more about Sears Street project: ithacanhs.org/sears
URL:https://www.ithacanhs.org/event/sears-st-crane-installation-kick-off-party/
CATEGORIES:INHS General
ORGANIZER;CN="INHS":MAILTO:info@ithacanhs.org
END:VEVENT
END:VCALENDAR